BEGIN:VCALENDAR
VERSION:2.0
PRODID: -//CMS 5.0 //NONSGML //DE
BEGIN:VEVENT
SUMMARY:Übertragung Stammapostelgottesdienst aus Hamburg-Eppendorf
DESCRIPTION:Der Festgottesdienst aus Hamburg-Eppendorf wird in die Gemei
 nde Bad Bevensen übertragen.\n\n\n\nhttps://bad-bevensen.nak-nordost.d
 e/db/363863
UID:363863@bad-bevensen.nak-nordost.de
LOCATION:
CATEGORIES:
X-ORGANIZER:
STATUS:CONFIRMED
CLASS:PUBLIC
DTSTART:20251214T090000Z
DTEND:20251214T090000Z
DTSTAMP:20260422T170407Z
CREATED:20240530T075701Z
LAST-MODIFIED:20240530T075744Z
BEGIN:VALARM
UID:462BCFF2-3E6D-11F1-A286-D00B69372A87
TRIGGER:-PT60M
ACTION:DISPLAY
DESCRIPTION:SUMMARY:Übertragung Stammapostelgottesdienst aus Hamburg-Eppendorf
END:VALARM
END:VEVENT
END:VCALENDAR
